BEGIN:VCALENDAR
VERSION:2.0
PRODID:-//Edmonton Golf Association - ECPv6.15.20//NONSGML v1.0//EN
CALSCALE:GREGORIAN
METHOD:PUBLISH
X-WR-CALNAME:Edmonton Golf Association
X-ORIGINAL-URL:https://egagolf.ca
X-WR-CALDESC:Events for Edmonton Golf Association
REFRESH-INTERVAL;VALUE=DURATION:PT1H
X-Robots-Tag:noindex
X-PUBLISHED-TTL:PT1H
BEGIN:VTIMEZONE
TZID:America/Denver
BEGIN:DAYLIGHT
TZOFFSETFROM:-0700
TZOFFSETTO:-0600
TZNAME:MDT
DTSTART:20250309T090000
END:DAYLIGHT
BEGIN:STANDARD
TZOFFSETFROM:-0600
TZOFFSETTO:-0700
TZNAME:MST
DTSTART:20251102T080000
END:STANDARD
BEGIN:DAYLIGHT
TZOFFSETFROM:-0700
TZOFFSETTO:-0600
TZNAME:MDT
DTSTART:20260308T090000
END:DAYLIGHT
BEGIN:STANDARD
TZOFFSETFROM:-0600
TZOFFSETTO:-0700
TZNAME:MST
DTSTART:20261101T080000
END:STANDARD
BEGIN:DAYLIGHT
TZOFFSETFROM:-0700
TZOFFSETTO:-0600
TZNAME:MDT
DTSTART:20270314T090000
END:DAYLIGHT
BEGIN:STANDARD
TZOFFSETFROM:-0600
TZOFFSETTO:-0700
TZNAME:MST
DTSTART:20271107T080000
END:STANDARD
END:VTIMEZONE
BEGIN:VEVENT
DTSTART;VALUE=DATE:20260607
DTEND;VALUE=DATE:20260610
DTSTAMP:20260424T061921
CREATED:20260217T231907Z
LAST-MODIFIED:20260401T232530Z
UID:10000008-1780790400-1781049599@egagolf.ca
SUMMARY:Edmonton Men’s Amateur
DESCRIPTION:Presented by Emerald Hills Canadian Tire\nEga-edmontonmensamateurchampionship.golfgenius.com
URL:https://egagolf.ca/event/edmonton-mens-amateur-2/
LOCATION:Glendale Golf & Country Club\, 12410 199 St NW\, Edmonton\, Alberta\, T5V 1T4\, Canada
END:VEVENT
BEGIN:VEVENT
DTSTART;VALUE=DATE:20260620
DTEND;VALUE=DATE:20260621
DTSTAMP:20260424T061921
CREATED:20260217T232012Z
LAST-MODIFIED:20260403T163300Z
UID:10000009-1781913600-1781999999@egagolf.ca
SUMMARY:Edmonton Best Ball
DESCRIPTION:ega-edmontonbestballchampionship2.golfgenius.com
URL:https://egagolf.ca/event/edmonton-best-ball/
LOCATION:Trestle Creek Golf Course\, 7011 Township Rd 532\, Entwistle\, Alberta\, T0E 0S0\, Canada
END:VEVENT
BEGIN:VEVENT
DTSTART;VALUE=DATE:20260705
DTEND;VALUE=DATE:20260707
DTSTAMP:20260424T061921
CREATED:20260217T232616Z
LAST-MODIFIED:20260401T231640Z
UID:10000011-1783209600-1783382399@egagolf.ca
SUMMARY:Edmonton Senior Men’s Championship
DESCRIPTION:Ega-edmontonseniormenschampionship1.golfgenius.com
URL:https://egagolf.ca/event/edmonton-senior-mens-championship-2/
LOCATION:Goose Hummock Golf Resort\, 23210 Township Rd 564\, Gibbons\, Alberta\, T0A 1N5\, Canada
END:VEVENT
BEGIN:VEVENT
DTSTART;VALUE=DATE:20260711
DTEND;VALUE=DATE:20260713
DTSTAMP:20260424T061921
CREATED:20260217T232311Z
LAST-MODIFIED:20260402T001018Z
UID:10000010-1783728000-1783900799@egagolf.ca
SUMMARY:Edmonton Junior Championship
DESCRIPTION:Presented by Jiffy Lube \nEga-edmontonjuniorchampionshippresentedb.golfgenius.com
URL:https://egagolf.ca/event/edmonton-junior-championship-2/
LOCATION:Edmonton Country Club\, 6201 Country Club Rd NW\, Edmonton\, Alberta\, Canada
END:VEVENT
BEGIN:VEVENT
DTSTART;VALUE=DATE:20260719
DTEND;VALUE=DATE:20260721
DTSTAMP:20260424T061921
CREATED:20260217T231636Z
LAST-MODIFIED:20260401T231142Z
UID:10000007-1784419200-1784591999@egagolf.ca
SUMMARY:Edmonton Ladies Amateur\, Senior & Super Senior
DESCRIPTION:Ega-edmontonladiesamateurchampionship1.golfgenius.com 
URL:https://egagolf.ca/event/edmonton-ladies-amateur-senior-super-senior-2/
LOCATION:Cardiff Golf Course
END:VEVENT
END:VCALENDAR